BEGIN:VCALENDAR
VERSION:2.0
PRODID:-//Tetbury Town Council//Meeting Calendar//EN
CALSCALE:GREGORIAN
METHOD:PUBLISH
BEGIN:VEVENT
UID:72049-20260427@tetbury.gov.uk
DTSTAMP:20260422T132841Z
DTSTART;VALUE=DATE:20260427
DTEND;VALUE=DATE:20260428
SUMMARY:Full Council &#8211\\; Monday 27th April 2026
DESCRIPTION:Full Council Meeting\nView details: https://tetbury.gov.uk/meetings/full-council-monday-27th-april-2026/
URL:https://tetbury.gov.uk/meetings/full-council-monday-27th-april-2026/
END:VEVENT
END:VCALENDAR
